Workbook

Sheet Berekeningen
B1: Berekenening van water-, groen-, parkeernorm
B4: Middels dit document bekijkt u enkel of er in kwanitatieve zin voldaan wordt aan de beleidsnormen. De kwaliteit dient nog getoetst te worden door de gemeente.
B5: Waternorm
C6: Toelichting
C7: 60 mm berging voor alle nieuwbouw- en uitbreidingsplannen.
C8: Bij projecten waar gesloopt wordt en nieuwe bebouwing terugkomt, mag de gesloopte bebouwing niet in mindering worden gebracht op de vereiste waterberging. Binnen bebouwd gebied kan er in afstemming met de gemeente een overstort of vertraagde afvoer worden gerealiseerd. Buiten bebouwd gebied, waar drukriool ligt, is de eigenaar volledig verantwoordelijk voor zijn eigen waterberging. Op de drukriolering mag GEEN hemelwater worden geloosd.
C10: De waterbergingsnorm geldt voor terreinverharding (inritten, parkeren, paden, etc.) én bebouwing (woning, loods, schuur, stallen). De initiatiefnemer dient door middel van een hydologische toetsing aan te geven dat waterberging (groot: 60 mm) aangelegd kan worden boven de Gemiddeld Hoogste Grondwaterstand (GHG).
C12: Berekening waterberging
C13: verhard oppervlak x 60 mm
C15: Vul in het veld hiernaast het aantal m² in | K15: =E15*I16 -> 0 | L15: m³ benodigde waterberging
F16: m² | H16: X | I16: 0.06 | J16: =
C19: Afkopen waterberging
C20: Indien het realiseren van de benodigde waterberging binnen het projectgebied niet mogelijk blijkt, is het mogelijk deze af te kopen. Dit geldt echter alleen bij inbreidingslocaties. De gemeente neemt dan de verantwoordelijkheid over en moet binnen 5 jaar een waterberging realiseren. Het afkoopbedrag wordt bepaald door de locatie van het projectgebied (zie tabblad waterberging).
L21: Geef d.m.v. 'X' hieronder aan welk gebied het betreft
F23: €/m3 waterberging | I23: benodigde m3 waterberging | K23: Afkoopkosten
C24: Gebied 1 (goede infiltratie): | F24: 1474 | I24: =$K$15 -> 0 | K24: =F24*I24 -> 0
C25: Gebied 2 (berperkte infiltratie): | F25: 1525 | I25: =$K$15 -> 0 | K25: =F25*I25 -> 0
C26: Gebied 3 (geen infiltratie, water bergen en vertraagd afvoeren): | F26: 1825 | I26: =$K$15 -> 0 | K26: =F26*I26 -> 0
B28: Groennorm
B29: STAP 1
C31: Vul in het veld hiernaast het aantal m² oppervlak van het perceel in
F32: m² | G32: Oppervlakte perceel
C34: Vul in het veld hiernaast het aantal m² te slopen verharding in
F35: m² | G35: te slopen verharding
C38: Percentage te slopen verharding | E38: =E34/E31 -> #DIV/0! | F38: (indien meer dan 50% van het totaal oppervlak van het perceel wordt gesloopt, wordt dit meegeteld in de berekening)
C40: Vul in het veld hiernaast het aantal woningen in
F41: X | H41: 75 | I41: m² groen | J41: = | K41: =IF(E38>=0.5,((E40*H41)-E34),E40*H41) -> #DIV/0!
C43: Vul in het veld hiernaast het aantal m² dak- of gevelgroen in
F44: m² | H44: Dak- of gevelgroen
E46: Totaal te realiseren groen in m² | K46: =K41+E43 -> #DIV/0! | L46: m²
E48: Invulling volgens ontwerpplan | M48: Legenda
C49: Vul in het veld hiernaast het aantal m² groen in dat volgens ontwerpplan wordt gerealiseerd | N49: Voldoet meer als voldoende aan de groennorm
F50: m² | K50: =E49-K46 -> #DIV/0! | L50: m² | N50: Voldoet aan groennorm
N51: Voldoet NIET aan groennorm. Ga naar stap 2
B53: STAP 2 | C53: Indien er niet wordt voldaan aan de groennorm, onderstaande berekening voor de financiële compensatie uitvoeren
C54: Lees voorafgaand aan het invullen de informatie m.b.t. de aanplant van een boom onder tabblad 'groennorm'
E56: Financiële compensatie bedraagt | J56: € | K56: =IF(K50<0,K50*(14000/75),0) -> #DIV/0!
C58: Aanplant van | E58: 1e grootte orde boom bedraagt U dient hierbij rekening te houden met 100 m² groeiplaats per boom | F58: 7000 | G58: Vul in het veld hiernaast het aantal te planten 1e grootte orde bomen in | J58: € | K58: =I58*F58 -> 0
E60: 2e grootte orde boom bedraagt U dient hierbij rekening te houden met 50 m² groeiplaats per boom | F60: 4520 | G60: Vul in het veld hiernaast het aantal te planten 2e grootte orde bomen in | J60: € | K60: =I60*F60 -> 0
M62: Legenda
E63: Totale financiële compensatie | J63: € | K63: =K56+K58+K60 -> #DIV/0! | N63: Voldoet aan groennorm
N64: Voldoet niet aan groennorm
B67: Parkeernorm
C69: Ligging plangebied
B70: Kies het juiste plangebied door een 'X' in te voeren in het juiste vak | E70: Centrum Bakel en Gemert
E71: Rest bebouwde kom Bakel en Gemert
E72: Rest bebouwde kom overige kernen
E73: Buitengebied
C74: =COUNTBLANK(C70:C73) -> 4 | F74: Vul hieronder het aantal functies in | G74: Vul hieronder de eenheid in (bijv. eenheid wonen of verkoopvloeroppervlak supermarkt) | K74: Benodigd aantal parkeerplaatsen | L74: Waarvan Gebruikersaandeel | M74: Waarvan bezoekersaandeel
E75: Functie | F75: Aantal | G75: Eenheid | I75: Parkeernorm
B76: 1. | C76: Wonen | D76: 1 | E76: Koop, vrijstaand | I76: ppl per woning | K76: {=_xlfn.IFS($C$74>2,IF($C$70="X",F76*Parkeernorm!C4,IF($C$71="X",F76*Parkeernorm!D4,IF($C$72="X",F76*Parkeernorm!E4,IF($C$73="X",F76*Parkeernorm!F4,0)))))} -> 0 | L76: =K76-M76 -> 0 | M76: =F76*Parkeernorm!G4 -> 0
D77: 2 | E77: Koop, twee-onder-een-kap | I77: ppl per woning | K77: {=_xlfn.IFS($C$74>2,IF($C$70="X",F77*Parkeernorm!C5,IF($C$71="X",F77*Parkeernorm!D5,IF($C$72="X",F77*Parkeernorm!E5,IF($C$73="X",F77*Parkeernorm!F5,0)))))} -> 0 | L77: =K77-M77 -> 0 | M77: =F77*Parkeernorm!G5 -> 0
D78: 3 | E78: Koop, tussen/hoek | I78: ppl per woning | K78: {=_xlfn.IFS($C$74>2,IF($C$70="X",F78*Parkeernorm!C6,IF($C$71="X",F78*Parkeernorm!D6,IF($C$72="X",F78*Parkeernorm!E6,IF($C$73="X",F78*Parkeernorm!F6,0)))))} -> 0 | L78: =K78-M78 -> 0 | M78: =F78*Parkeernorm!G6 -> 0
D79: 4 | E79: Koop, appartement klein | I79: ppl per woning | K79: {=_xlfn.IFS($C$74>2,IF($C$70="X",F79*Parkeernorm!C7,IF($C$71="X",F79*Parkeernorm!D7,IF($C$72="X",F79*Parkeernorm!E7,IF($C$73="X",F79*Parkeernorm!F7,0)))))} -> 0 | L79: =K79-M79 -> 0 | M79: =F79*Parkeernorm!G7 -> 0
D80: 5 | E80: Koop, appartement groot, | I80: ppl per woning | K80: {=_xlfn.IFS($C$74>2,IF($C$70="X",F80*Parkeernorm!C8,IF($C$71="X",F80*Parkeernorm!D8,IF($C$72="X",F80*Parkeernorm!E8,IF($C$73="X",F80*Parkeernorm!F8,0)))))} -> 0 | L80: =K80-M80 -> 0 | M80: =F80*Parkeernorm!G8 -> 0
D81: 6 | E81: Huur, sociale sector | I81: ppl per woning | K81: {=_xlfn.IFS($C$74>2,IF($C$70="X",F81*Parkeernorm!C9,IF($C$71="X",F81*Parkeernorm!D9,IF($C$72="X",F81*Parkeernorm!E9,IF($C$73="X",F81*Parkeernorm!F9,0)))))} -> 0 | L81: =K81-M81 -> 0 | M81: =F81*Parkeernorm!G9 -> 0
D82: 7 | E82: Huur, vrije sector | I82: ppl per woning | K82: {=_xlfn.IFS($C$74>2,IF($C$70="X",F82*Parkeernorm!C10,IF($C$71="X",F82*Parkeernorm!D10,IF($C$72="X",F82*Parkeernorm!E10,IF($C$73="X",F82*Parkeernorm!F10,0)))))} -> 0 | L82: =K82-M82 -> 0 | M82: =F82*Parkeernorm!G10 -> 0
D83: 8 | E83: Huur, appartement klein | I83: ppl per woning | K83: {=_xlfn.IFS($C$74>2,IF($C$70="X",F83*Parkeernorm!C11,IF($C$71="X",F83*Parkeernorm!D11,IF($C$72="X",F83*Parkeernorm!E11,IF($C$73="X",F83*Parkeernorm!F11,0)))))} -> 0 | L83: =K83-M83 -> 0 | M83: =F83*Parkeernorm!G11 -> 0
D84: 9 | E84: Huur appartement groot | I84: ppl per woning | K84: {=_xlfn.IFS($C$74>2,IF($C$70="X",F84*Parkeernorm!C12,IF($C$71="X",F84*Parkeernorm!D12,IF($C$72="X",F84*Parkeernorm!E12,IF($C$73="X",F84*Parkeernorm!F12,0)))))} -> 0 | L84: =K84-M84 -> 0 | M84: =F84*Parkeernorm!G12 -> 0
D85: 10 | E85: Aanleunwoning, serviceflat | I85: ppl per woning | K85: {=_xlfn.IFS($C$74>2,IF($C$70="X",F85*Parkeernorm!C13,IF($C$71="X",F85*Parkeernorm!D13,IF($C$72="X",F85*Parkeernorm!E13,IF($C$73="X",F85*Parkeernorm!F13,0)))))} -> 0 | L85: =K85-M85 -> 0 | M85: =F85*Parkeernorm!G13 -> 0
D86: 11 | E86: Kamerverhuur (per kamer) | I86: ppl per kamer | K86: {=_xlfn.IFS($C$74>2,IF($C$70="X",F86*Parkeernorm!C14,IF($C$71="X",F86*Parkeernorm!D14,IF($C$72="X",F86*Parkeernorm!E14,IF($C$73="X",F86*Parkeernorm!F14,0)))))} -> 0 | L86: =K86-M86 -> 0 | M86: =F86*Parkeernorm!G14 -> 0
B87: 2. | C87: Werken | D87: 1 | E87: Kantoor (zonder baliefunctie) | I87: per 100m2 bvo | K87: {=_xlfn.IFS($C$74>2,IF($C$70="X",F87*Parkeernorm!C19,IF($C$71="X",F87*Parkeernorm!D19,IF($C$72="X",F87*Parkeernorm!E19,IF($C$73="X",F87*Parkeernorm!F19,0)))))} -> 0 | L87: =K87-M87 -> 0 | M87: =F87*Parkeernorm!G19 -> 0
D88: 2 | E88: Commerciële dienstverlening (kantoor met baliefunctie) | I88: per 100m2 bvo | K88: {=_xlfn.IFS($C$74>2,IF($C$70="X",F88*Parkeernorm!C20,IF($C$71="X",F88*Parkeernorm!D20,IF($C$72="X",F88*Parkeernorm!E20,IF($C$73="X",F88*Parkeernorm!F20,0)))))} -> 0 | L88: =K88-M88 -> 0 | M88: =F88*Parkeernorm!G20 -> 0
D89: 3 | E89: Bedrijf arbeidsintensief (industrie, laboratorium, werkplaats) | I89: per 100m2 bvo | K89: {=_xlfn.IFS($C$74>2,IF($C$70="X",F89*Parkeernorm!C21,IF($C$71="X",F89*Parkeernorm!D21,IF($C$72="X",F89*Parkeernorm!E21,IF($C$73="X",F89*Parkeernorm!F21,0)))))} -> 0 | L89: =K89-M89 -> 0 | M89: =F89*Parkeernorm!G21 -> 0
D90: 4 | E90: Bedrijf arbeidsextensief (loods, opslag, transportbedrijf) | I90: per 100m2 bvo | K90: {=_xlfn.IFS($C$74>2,IF($C$70="X",F90*Parkeernorm!C22,IF($C$71="X",F90*Parkeernorm!D22,IF($C$72="X",F90*Parkeernorm!E22,IF($C$73="X",F90*Parkeernorm!F22,0)))))} -> 0 | L90: =K90-M90 -> 0 | M90: =F90*Parkeernorm!G22 -> 0
D91: 5 | E91: Bedrijfsverzamelgebouw | I91: per 100m2 bvo | K91: {=_xlfn.IFS($C$74>2,IF($C$70="X",F91*Parkeernorm!C23,IF($C$71="X",F91*Parkeernorm!D23,IF($C$72="X",F91*Parkeernorm!E23,IF($C$73="X",F91*Parkeernorm!F23,0)))))} -> 0 | L91: =K91-M91 -> 0 | M91: =F91*Parkeernorm!G23 -> 0
B92: 3. | C92: Winkelen en boodschappen | D92: 1 | E92: Buurtsupermarkt bvo < 750m2 | I92: per 100m2 bvo | K92: {=_xlfn.IFS($C$74>2,IF($C$70="X",F92*Parkeernorm!C28,IF($C$71="X",F92*Parkeernorm!D28,IF($C$72="X",F92*Parkeernorm!E28,IF($C$73="X",F92*Parkeernorm!F28,0)))))} -> 0 | L92: =K92-M92 -> 0 | M92: =F92*Parkeernorm!G28 -> 0
D93: 2 | E93: Discountsupermarkt | I93: per 100m2 bvo | K93: {=_xlfn.IFS($C$74>2,IF($C$70="X",F93*Parkeernorm!C29,IF($C$71="X",F93*Parkeernorm!D29,IF($C$72="X",F93*Parkeernorm!E29,IF($C$73="X",F93*Parkeernorm!F29,0)))))} -> 0 | L93: =K93-M93 -> 0 | M93: =F93*Parkeernorm!G29 -> 0
D94: 3 | E94: Fullservice supermarkt (laag en middellaag prijsniveau) | I94: per 100m2 bvo | K94: {=_xlfn.IFS($C$74>2,IF($C$70="X",F94*Parkeernorm!C30,IF($C$71="X",F94*Parkeernorm!D30,IF($C$72="X",F94*Parkeernorm!E30,IF($C$73="X",F94*Parkeernorm!F30,0)))))} -> 0 | L94: =K94-M94 -> 0 | M94: =F94*Parkeernorm!G30 -> 0
D95: 4 | E95: Fullservice supermarkt (middelhoog en hoog prijsniveau) | I95: per 100m2 bvo | K95: {=_xlfn.IFS($C$74>2,IF($C$70="X",F95*Parkeernorm!C31,IF($C$71="X",F95*Parkeernorm!D31,IF($C$72="X",F95*Parkeernorm!E31,IF($C$73="X",F95*Parkeernorm!F31,0)))))} -> 0 | L95: =K95-M95 -> 0 | M95: =F95*Parkeernorm!G31 -> 0
D96: 5 | E96: Grote supermarkt bvo > 2500m2 | I96: per 100m2 bvo | K96: {=_xlfn.IFS($C$74>2,IF($C$70="X",F96*Parkeernorm!C32,IF($C$71="X",F96*Parkeernorm!D32,IF($C$72="X",F96*Parkeernorm!E32,IF($C$73="X",F96*Parkeernorm!F32,0)))))} -> 0 | L96: =K96-M96 -> 0 | M96: =F96*Parkeernorm!G32 -> 0
D97: 6 | E97: Groothandel in levensmiddelen | I97: per 100m2 bvo | K97: {=_xlfn.IFS($C$74>2,IF($C$70="X",F97*Parkeernorm!C33,IF($C$71="X",F97*Parkeernorm!D33,IF($C$72="X",F97*Parkeernorm!E33,IF($C$73="X",F97*Parkeernorm!F33,0)))))} -> 0 | L97: =K97-M97 -> 0 | M97: =F97*Parkeernorm!G33 -> 0
D98: 7 | E98: Buurt- en dorpscentrum | I98: per 100m2 bvo | K98: {=_xlfn.IFS($C$74>2,IF($C$70="X",F98*Parkeernorm!C34,IF($C$71="X",F98*Parkeernorm!D34,IF($C$72="X",F98*Parkeernorm!E34,IF($C$73="X",F98*Parkeernorm!F34,0)))))} -> 0 | L98: =K98-M98 -> 0 | M98: =F98*Parkeernorm!G34 -> 0
D99: 8 | E99: (week)markt (per m1 kraam) | I99: per m1 kraam | K99: {=_xlfn.IFS($C$74>2,IF($C$70="X",F99*Parkeernorm!C35,IF($C$71="X",F99*Parkeernorm!D35,IF($C$72="X",F99*Parkeernorm!E35,IF($C$73="X",F99*Parkeernorm!F35,0)))))} -> 0 | L99: =K99-M99 -> 0 | M99: =F99*Parkeernorm!G35 -> 0
D100: 9 | E100: Kringloopwinkel | I100: per 100m2 bvo | K100: {=_xlfn.IFS($C$74>2,IF($C$70="X",F100*Parkeernorm!C36,IF($C$71="X",F100*Parkeernorm!D36,IF($C$72="X",F100*Parkeernorm!E36,IF($C$73="X",F100*Parkeernorm!F36,0)))))} -> 0 | L100: =K100-M100 -> 0 | M100: =F100*Parkeernorm!G36 -> 0
D101: 10 | E101: Bruin- en witgoedzaken | I101: per 100m2 bvo | K101: {=_xlfn.IFS($C$74>2,IF($C$70="X",F101*Parkeernorm!C37,IF($C$71="X",F101*Parkeernorm!D37,IF($C$72="X",F101*Parkeernorm!E37,IF($C$73="X",F101*Parkeernorm!F37,0)))))} -> 0 | L101: =K101-M101 -> 0 | M101: =F101*Parkeernorm!G37 -> 0
D102: 11 | E102: Woonwarenhuis/woonwinkel | I102: per 100m2 bvo | K102: {=_xlfn.IFS($C$74>2,IF($C$70="X",F102*Parkeernorm!C38,IF($C$71="X",F102*Parkeernorm!D38,IF($C$72="X",F102*Parkeernorm!E38,IF($C$73="X",F102*Parkeernorm!F38,0)))))} -> 0 | L102: =K102-M102 -> 0 | M102: =F102*Parkeernorm!G38 -> 0
D103: 12 | E103: Meubel/Woonboulevard | I103: per 100m2 bvo | K103: {=_xlfn.IFS($C$74>2,IF($C$70="X",F103*Parkeernorm!C39,IF($C$71="X",F103*Parkeernorm!D39,IF($C$72="X",F103*Parkeernorm!E39,IF($C$73="X",F103*Parkeernorm!F39,0)))))} -> 0 | L103: =K103-M103 -> 0 | M103: =F103*Parkeernorm!G39 -> 0
D104: 13 | E104: Outletcentrum | I104: per 100m2 bvo | K104: {=_xlfn.IFS($C$74>2,IF($C$70="X",F104*Parkeernorm!C40,IF($C$71="X",F104*Parkeernorm!D40,IF($C$72="X",F104*Parkeernorm!E40,IF($C$73="X",F104*Parkeernorm!F40,0)))))} -> 0 | L104: =K104-M104 -> 0 | M104: =F104*Parkeernorm!G40 -> 0
... D106: 15 | E106: Tuincentrum inclusief buitenruimte bvo > 1250 m2 | I106: per 100m2 bvo | K106: {=_xlfn.IFS($C$74>2,IF($C$70="X",F106*Parkeernorm!C42,IF($C$71="X",F106*Parkeernorm!D42,IF($C$72="X",F106*Parkeernorm!E42,IF($C$73="X",F106*Parkeernorm!F42,0)))))} -> 0 | L106: =K106-M106 -> 0 | M106: =F106*Parkeernorm!G42 -> 0
B107: 4. | C107: Sport, cultuur en ontspanning | D107: 1 | E107: Bibliotheek | I107: per 100m2 bvo | K107: {=_xlfn.IFS($C$74>2,IF($C$70="X",F107*Parkeernorm!C47,IF($C$71="X",F107*Parkeernorm!D47,IF($C$72="X",F107*Parkeernorm!E47,IF($C$73="X",F107*Parkeernorm!F47,0)))))} -> 0 | L107: =K107-M107 -> 0 | M107: =F107*Parkeernorm!G47 -> 0
D108: 2 | E108: Museum | I108: per 100m2 bvo | K108: {=_xlfn.IFS($C$74>2,IF($C$70="X",F108*Parkeernorm!C48,IF($C$71="X",F108*Parkeernorm!D48,IF($C$72="X",F108*Parkeernorm!E48,IF($C$73="X",F108*Parkeernorm!F48,0)))))} -> 0 | L108: =K108-M108 -> 0 | M108: =F108*Parkeernorm!G48 -> 0
D109: 3 | E109: Bioscoop | I109: per 100m2 bvo | K109: {=_xlfn.IFS($C$74>2,IF($C$70="X",F109*Parkeernorm!C49,IF($C$71="X",F109*Parkeernorm!D49,IF($C$72="X",F109*Parkeernorm!E49,IF($C$73="X",F109*Parkeernorm!F49,0)))))} -> 0 | L109: =K109-M109 -> 0 | M109: =F109*Parkeernorm!G49 -> 0
D110: 4 | E110: Filmtheater/filmhuis | I110: per 100m2 bvo | K110: {=_xlfn.IFS($C$74>2,IF($C$70="X",F110*Parkeernorm!C50,IF($C$71="X",F110*Parkeernorm!D50,IF($C$72="X",F110*Parkeernorm!E50,IF($C$73="X",F110*Parkeernorm!F50,0)))))} -> 0 | L110: =K110-M110 -> 0 | M110: =F110*Parkeernorm!G50 -> 0
D111: 5 | E111: Theater/Schouwburg | I111: per 100m2 bvo | K111: {=_xlfn.IFS($C$74>2,IF($C$70="X",F111*Parkeernorm!C51,IF($C$71="X",F111*Parkeernorm!D51,IF($C$72="X",F111*Parkeernorm!E51,IF($C$73="X",F111*Parkeernorm!F51,0)))))} -> 0 | L111: =K111-M111 -> 0 | M111: =F111*Parkeernorm!G51 -> 0
D112: 6 | E112: Casino | I112: per 100m2 bvo | K112: {=_xlfn.IFS($C$74>2,IF($C$70="X",F112*Parkeernorm!C52,IF($C$71="X",F112*Parkeernorm!D52,IF($C$72="X",F112*Parkeernorm!E52,IF($C$73="X",F112*Parkeernorm!F52,0)))))} -> 0 | L112: =K112-M112 -> 0 | M112: =F112*Parkeernorm!G52 -> 0
D113: 7 | E113: Bowlingcentrum | I113: per 100m2 bvo | K113: {=_xlfn.IFS($C$74>2,IF($C$70="X",F113*Parkeernorm!C53,IF($C$71="X",F113*Parkeernorm!D53,IF($C$72="X",F113*Parkeernorm!E53,IF($C$73="X",F113*Parkeernorm!F53,0)))))} -> 0 | L113: =K113-M113 -> 0 | M113: =F113*Parkeernorm!G53 -> 0
D114: 8 | E114: Biljart/snookercentrum | I114: per 100m2 bvo | K114: {=_xlfn.IFS($C$74>2,IF($C$70="X",F114*Parkeernorm!C54,IF($C$71="X",F114*Parkeernorm!D54,IF($C$72="X",F114*Parkeernorm!E54,IF($C$73="X",F114*Parkeernorm!F54,0)))))} -> 0 | L114: =K114-M114 -> 0 | M114: =F114*Parkeernorm!G54 -> 0
D115: 9 | E115: Dansstudio | I115: per 100m2 bvo | K115: {=_xlfn.IFS($C$74>2,IF($C$70="X",F115*Parkeernorm!C55,IF($C$71="X",F115*Parkeernorm!D55,IF($C$72="X",F115*Parkeernorm!E55,IF($C$73="X",F115*Parkeernorm!F55,0)))))} -> 0 | L115: =K115-M115 -> 0 | M115: =F115*Parkeernorm!G55 -> 0
D116: 10 | E116: Fitnessstudio/sportschool | I116: per 100m2 bvo | K116: {=_xlfn.IFS($C$74>2,IF($C$70="X",F116*Parkeernorm!C56,IF($C$71="X",F116*Parkeernorm!D56,IF($C$72="X",F116*Parkeernorm!E56,IF($C$73="X",F116*Parkeernorm!F56,0)))))} -> 0 | L116: =K116-M116 -> 0 | M116: =F116*Parkeernorm!G56 -> 0
D117: 11 | E117: Fitnesscentrum bvo > 1500m2 | I117: per 100m2 bvo | K117: {=_xlfn.IFS($C$74>2,IF($C$70="X",F117*Parkeernorm!C57,IF($C$71="X",F117*Parkeernorm!D57,IF($C$72="X",F117*Parkeernorm!E57,IF($C$73="X",F117*Parkeernorm!F57,0)))))} -> 0 | L117: =K117-M117 -> 0 | M117: =F117*Parkeernorm!G57 -> 0
D118: 12 | E118: Welnesscentrum (thermen, kuurcentrum, beautycentrum) | I118: per 100m2 bvo | K118: {=_xlfn.IFS($C$74>2,IF($C$70="X",F118*Parkeernorm!C58,IF($C$71="X",F118*Parkeernorm!D58,IF($C$72="X",F118*Parkeernorm!E58,IF($C$73="X",F118*Parkeernorm!F58,0)))))} -> 0 | L118: =K118-M118 -> 0 | M118: =F118*Parkeernorm!G58 -> 0
D119: 13 | E119: Sauna/hammam | I119: per 100m2 bvo | K119: {=_xlfn.IFS($C$74>2,IF($C$70="X",F119*Parkeernorm!C59,IF($C$71="X",F119*Parkeernorm!D59,IF($C$72="X",F119*Parkeernorm!E59,IF($C$73="X",F119*Parkeernorm!F59,0)))))} -> 0 | L119: =K119-M119 -> 0 | M119: =F119*Parkeernorm!G59 -> 0
... D132: 26 | E132: Volkstuin (per 10 tuinen) | I132: per 10 tuinen | K132: {=_xlfn.IFS($C$74>2,IF($C$70="X",F132*Parkeernorm!C72,IF($C$71="X",F132*Parkeernorm!D72,IF($C$72="X",F132*Parkeernorm!E72,IF($C$73="X",F132*Parkeernorm!F72,0)))))} -> 0 | L132: =K132-M132 -> 0 | M132: =F132*Parkeernorm!G72 -> 0
B133: 5. | C133: Horeca en (verblijfs)recreatie | D133: 1 | E133: Camping (per standplaats) | I133: per standplaats | K133: {=_xlfn.IFS($C$74>2,IF($C$70="X",F133*Parkeernorm!C77,IF($C$71="X",F133*Parkeernorm!D77,IF($C$72="X",F133*Parkeernorm!E77,IF($C$73="X",F133*Parkeernorm!F77,0)))))} -> 0 | L133: =K133-M133 -> 0 | M133: =F133*Parkeernorm!G77 -> 0
D134: 2 | E134: Bungalowpark (per bungalow) | I134: per bungalow | K134: {=_xlfn.IFS($C$74>2,IF($C$70="X",F134*Parkeernorm!C78,IF($C$71="X",F134*Parkeernorm!D78,IF($C$72="X",F134*Parkeernorm!E78,IF($C$73="X",F134*Parkeernorm!F78,0)))))} -> 0 | L134: =K134-M134 -> 0 | M134: =F134*Parkeernorm!G78 -> 0
D135: 3 | E135: Bed & Breakfast (per gastenkamer) | I135: per gastenkamer | K135: {=_xlfn.IFS($C$74>2,IF($C$70="X",F135*Parkeernorm!C79,IF($C$71="X",F135*Parkeernorm!D79,IF($C$72="X",F135*Parkeernorm!E79,IF($C$73="X",F135*Parkeernorm!F79,0)))))} -> 0 | L135: =K135-M135 -> 0 | M135: =F135*Parkeernorm!G79 -> 0
D136: 4 | E136: 1ӿHotel (per 10 kamers) | I136: per 10 kamers | K136: {=_xlfn.IFS($C$74>2,IF($C$70="X",F136*Parkeernorm!C80,IF($C$71="X",F136*Parkeernorm!D80,IF($C$72="X",F136*Parkeernorm!E80,IF($C$73="X",F136*Parkeernorm!F80,0)))))} -> 0 | L136: =K136-M136 -> 0 | M136: =F136*Parkeernorm!G80 -> 0
D137: 5 | E137: 2ӿHotel (per 10 kamers) | I137: per 10 kamers | K137: {=_xlfn.IFS($C$74>2,IF($C$70="X",F137*Parkeernorm!C81,IF($C$71="X",F137*Parkeernorm!D81,IF($C$72="X",F137*Parkeernorm!E81,IF($C$73="X",F137*Parkeernorm!F81,0)))))} -> 0 | L137: =K137-M137 -> 0 | M137: =F137*Parkeernorm!G81 -> 0
D138: 6 | E138: 3ӿHotel (per 10 kamers) | I138: per 10 kamers | K138: {=_xlfn.IFS($C$74>2,IF($C$70="X",F138*Parkeernorm!C82,IF($C$71="X",F138*Parkeernorm!D82,IF($C$72="X",F138*Parkeernorm!E82,IF($C$73="X",F138*Parkeernorm!F82,0)))))} -> 0 | L138: =K138-M138 -> 0 | M138: =F138*Parkeernorm!G82 -> 0
...

Sheet Groennorm
A35: Toelichting
A36: Recreatief groen: | B36: de oppervlakte van het groen bedraagt minimaal 1.000m2 en samenhangend
B37: 300m is de werkelijk te lopen afstand
A39: Volgebouwde locatie: | B39: 50% van het oppervlak van de locatie moet bestaan uit te slopen gebouwen (contour op maaiveld)
A41: Gevelgroen: | B41: living wall systems, klimplanten worden meegeteld mits voorzien van goede groeiplaats voor 3m2
A42: 1e grootte boom
A43: 2e grootte boom

Sheet Parkeernorm
B2: Functie Wonen
B3: Norm per woning | C3: Centrum Bakel en Gemert | D3: Rest bebouwde kom Bakel en Gemert | E3: Rest bebouwde kom overige kernen | F3: Buitengebied | G3: Aandeel Bezoekers (pp per woning/ kamer)
B4: Koop, vrijstaand | C4: 1.8 | D4: 2.3 | E4: 2.2 | F4: 2.4 | G4: 0.3
B5: Koop, twee-onder-een-kap | C5: 1.7 | D5: 2.2 | E5: 2.1 | F5: 2.2 | G5: 0.3
B6: Koop, tussen/hoek | C6: 1.5 | D6: 1.8 | E6: 1.8 | F6: 2 | G6: 0.3
B7: Koop, appartement klein | C7: 1.3 | D7: 1.6 | E7: 1.5 | F7: 1.6 | G7: 0.3
B8: Koop, appartement groot, | C8: 1.6 | D8: 1.9 | E8: 1.8 | F8: 1.9 | G8: 0.3
B9: Huur, sociale sector | C9: 1.3 | D9: 1.6 | E9: 1.5 | F9: 1.6 | G9: 0.3
B10: Huur, vrije sector | C10: 1.5 | D10: 2 | E10: 1.9 | F10: 2 | G10: 0.3
B11: Huur, appartement klein | C11: 1.1 | D11: 1.4 | E11: 1.3 | F11: 1.6 | G11: 0.3
B12: Huur appartement groot | C12: 1.4 | D12: 1.9 | E12: 1.8 | F12: 2.1 | G12: 0.3
B13: Aanleunwoning, serviceflat | C13: 1.1 | D13: 1.1 | E13: 1.1 | F13: 1.2 | G13: 0.3
B14: Kamerverhuur (per kamer) | C14: 0.6 | D14: 0.7 | E14: 0.7 | F14: 0.7 | G14: 0.2
B16: Functie Werken
B17: Werken | C17: Centrum Bakel en Gemert | D17: Rest bebouwde kom Bakel en Gemert | E17: Rest bebouwde kom overige kernen | F17: Buitengebied | G17: Aandeel Bezoekers
B18: (per 100m2 bvo*)
B19: Kantoor (zonder baliefunctie) | C19: 1.6 | D19: 2.3 | E19: 2.3 | F19: 2.3 | G19: 0.05
B20: Commerciële dienstverlening (kantoor met baliefunctie) | C20: 2.1 | D20: 3 | E20: 3 | F20: 3.3 | G20: 0.2
B21: Bedrijf arbeidsintensief (industrie, laboratorium, werkplaats) | C21: 1.6 | D21: 1.7 | E21: 1.7 | F21: 2.1 | G21: 0.05
B22: Bedrijf arbeidsextensief (loods, opslag, transportbedrijf) | C22: 0.4 | D22: 0.6 | E22: 0.6 | F22: 0.8 | G22: 0.05
B23: Bedrijfsverzamelgebouw | C23: 1.1 | D23: 1.5 | E23: 1.5 | F23: 1.7 | G23: 0
B25: Functie winkelen en boodschappen
B26: Winkelen en boodschappen | C26: Centrum Bakel en Gemert | D26: Rest bebouwde kom Bakel en Gemert | E26: Rest bebouwde kom overige kernen | F26: Buitengebied | G26: Aandeel Bezoekers
B27: (per 100m2 bvo*) | I27: 0= n.v.t.
B28: Buurtsupermarkt bvo < 750m2 | C28: 3.3 | D28: 5.1 | E28: 4.1 | F28: 0 | G28: 0.89
B29: Discountsupermarkt | C29: 4.7 | D29: 7.5 | E29: 7.5 | F29: 0 | G29: 0.96
B30: Fullservice supermarkt (laag en middellaag prijsniveau) | C30: 4.6 | D30: 7.2 | E30: 7.2 | F30: 0 | G30: 0.93
B31: Fullservice supermarkt (middelhoog en hoog prijsniveau) | C31: 5.1 | D31: 6.6 | E31: 6.6 | F31: 0 | G31: 0.93
B32: Grote supermarkt bvo > 2500m2 | C32: 7.6 | D32: 9.6 | E32: 9.6 | F32: 0 | G32: 0.84
B33: Groothandel in levensmiddelen | C33: 0 | D33: 7.1 | E33: 7.1 | F33: 0 | G33: 0.8
B34: Buurt- en dorpscentrum | C34: 5 | D34: 5 | E34: 4 | F34: 0 | G34: 0.72
B35: (week)markt (per m1 kraam) | C35: 0.2 | D35: 0.2 | E35: 0.2 | F35: 0 | G35: 0.85
B36: Kringloopwinkel | C36: 0 | D36: 2 | E36: 2 | F36: 2.3 | G36: 0.89
B37: Bruin- en witgoedzaken | C37: 4.1 | D37: 8.2 | E37: 8.2 | F37: 9.3 | G37: 0.92
B38: Woonwarenhuis/woonwinkel | C38: 1.3 | D38: 1.8 | E38: 1.8 | F38: 2 | G38: 0.91
B39: Meubel/Woonboulevard | C39: 0 | D39: 2.6 | E39: 2.6 | F39: 0 | G39: 0.93
... B42: Tuincentrum inclusief buitenruimte bvo > 1250 m2 | C42: 0 | D42: 2.4 | E42: 2.4 | F42: 2.9 | G42: 0.89
B44: Functie sport, cultuur en ontspanning
B45: Sport, cultuur en ontspanning | C45: Centrum Bakel en Gemert | D45: Rest bebouwde kom Bakel en Gemert | E45: Rest bebouwde kom overige kernen | F45: Buitengebied | G45: Aandeel Bezoekers
B46: (per 100m2 bvo*) | I46: 0= n.v.t.
B47: Bibliotheek | C47: 0.5 | D47: 1 | E47: 1 | F47: 1.4 | G47: 0.97
B48: Museum | C48: 0.6 | D48: 1.1 | E48: 1.1 | F48: 0 | G48: 0.95
B49: Bioscoop | C49: 3.2 | D49: 10.3 | E49: 10.3 | F49: 13.7 | G49: 0.94
B50: Filmtheater/filmhuis | C50: 2.6 | D50: 7 | E50: 7 | F50: 9.9 | G50: 0.97
B51: Theater/Schouwburg | C51: 7.4 | D51: 8.4 | E51: 8.4 | F51: 12 | G51: 0.87
B52: Casino | C52: 5.7 | D52: 6.1 | E52: 6.1 | F52: 8 | G52: 0.86
B53: Bowlingcentrum | C53: 1.6 | D53: 2.4 | E53: 2.4 | F53: 2.8 | G53: 0.89
B54: Biljart/snookercentrum | C54: 0.9 | D54: 1.2 | E54: 1.2 | F54: 1.8 | G54: 0.87
B55: Dansstudio | C55: 1.6 | D55: 5.1 | E55: 5.1 | F55: 7.4 | G55: 0.93
B56: Fitnessstudio/sportschool | C56: 1.4 | D56: 4.4 | E56: 4.4 | F56: 6.5 | G56: 0.87
B57: Fitnesscentrum bvo > 1500m2 | C57: 1.7 | D57: 5.9 | E57: 5.9 | F57: 7.4 | G57: 0.94
B58: Welnesscentrum (thermen, kuurcentrum, beautycentrum) | C58: 0 | D58: 9.3 | E58: 9.3 | F58: 10.3 | G58: 0.99
... B72: Volkstuin (per 10 tuinen) | C72: 0 | D72: 1.3 | E72: 1.3 | F72: 1.5 | G72: 1
B74: Functie horeca en (verblijfs)recreatie
B75: Horeca en (verblijfs) recreatie | C75: Centrum Bakel en Gemert | D75: Rest bebouwde kom Bakel en Gemert | E75: Rest bebouwde kom overige kernen | F75: Buitengebied | G75: Aandeel Bezoekers
B76: (per 100m2 bvo*) | I76: 0= n.v.t.
B77: Camping (per standplaats) | C77: 0 | D77: 0 | E77: 0 | F77: 1.2 | G77: 0.9
B78: Bungalowpark (per bungalow) | C78: 0 | D78: 1.7 | E78: 1.7 | F78: 2.1 | G78: 0.91
B79: Bed & Breakfast (per gastenkamer) | C79: 0.5 | D79: 0.5 | E79: 0.5 | F79: 0.5 | G79: 0.91
B80: 1ӿHotel (per 10 kamers) | C80: 0.4 | D80: 2.5 | E80: 2.5 | F80: 4.5 | G80: 0.77
B81: 2ӿHotel (per 10 kamers) | C81: 1.5 | D81: 4.1 | E81: 4.1 | F81: 6.3 | G81: 0.8
B82: 3ӿHotel (per 10 kamers) | C82: 2.2 | D82: 4.8 | E82: 4.8 | F82: 6.8 | G82: 0.77
B83: 4ӿHotel (per 10 kamers) | C83: 3.5 | D83: 7.1 | E83: 7.1 | F83: 9 | G83: 0.73
B84: 5ӿHotel (per 10 kamers) | C84: 5.5 | D84: 10.2 | E84: 10.2 | F84: 12.6 | G84: 0.65
B85: Café/Bar/Cafetaria | C85: 5 | D85: 6 | E85: 6 | F85: 0 | G85: 0.9
B86: Restaurant | C86: 10 | D86: 11 | E86: 11 | F86: 15 | G86: 0.8
B87: Discotheek | C87: 7 | D87: 20.9 | E87: 20.9 | F87: 20.8 | G87: 0.99
B88: Evenementenhal | C88: 5.5 | D88: 9 | E88: 9 | F88: 0 | G88: 0.98
B90: Functie Gezondheidszorg en (sociale) voorzieningen
B91: Gezondheidszorg en (sociale) voorzieningen | C91: Centrum Bakel en Gemert | D91: Rest bebouwde kom Bakel en Gemert | E91: Rest bebouwde kom overige kernen | F91: Buitengebied | G91: Aandeel Bezoekers
B92: (per 100m2 bvo*) | I92: 0= n.v.t.
B93: Huisartsenpraktijk (per behandelkamer) | C93: 2.3 | D93: 3.1 | E93: 3 | F93: 3.3 | G93: 0.57
B94: Apotheek (per apotheek) | C94: 2.4 | D94: 3.2 | E94: 3.1 | F94: 0 | G94: 0.45
B95: Fysiotherapie praktijk (per behandelkamer) | C95: 1.4 | D95: 1.8 | E95: 1.7 | F95: 2 | G95: 0.57
B96: Consultatiebureau (per behandelkamer) | C96: 1.4 | D96: 1.9 | E96: 1.8 | F96: 2.2 | G96: 0.5
B97: Consultatiebureau voor ouderen (per behandelkamer) | C97: 1.3 | D97: 2 | E97: 1.9 | F97: 2.2 | G97: 0.38
B98: Tandartsenpraktijk (per behandelkamer) | C98: 1.7 | D98: 2.4 | E98: 2.3 | F98: 2.7 | G98: 0.47
B99: Gezondheidscentrum (per behandelkamer) | C99: 1.7 | D99: 2.3 | E99: 2.2 | F99: 2.5 | G99: 0.55
B100: Ziekenhuis | C100: 1.5 | D100: 1.9 | E100: 1.8 | F100: 2 | G100: 0.29
B101: Crematorium (per gelijktijdige plechtigheid) | C101: 0 | D101: 30.1 | E101: 30.1 | F101: 30.1 | G101: 0.99
B102: Begraafplaats (per gelijktijdige plechtigheid) | C102: 0 | D102: 31.6 | E102: 31.6 | F102: 31.6 | G102: 0.97
B103: Religiegebouw (per zitplaats) | C103: 0.2 | D103: 0.2 | E103: 0.2 | F103: 0 | G103: 0
B104: Verpleegverzorgvoorziening (per wooneenheid) | C104: 0.6 | D104: 0.6 | E104: 0.6 | F104: 0 | G104: 0.6
B106: Functie Onderwijs
B107: Onderwijs | C107: Centrum Bakel en Gemert | D107: Rest bebouwde kom Bakel en Gemert | E107: Rest bebouwde kom overige kernen | F107: Buitengebied | G107: Aandeel Bezoekers
B108: (per 100m2 bvo*)
B109: Kinderdagverblijf/crèche | C109: 1 | D109: 1.4 | E109: 1.4 | F109: 1.5 | G109: 0.97
B110: Basisonderwijs (per leslokaal) | C110: 0.8 | D110: 0.8 | E110: 0.8 | F110: 0.8 | G110: 0
B111: Middelbare school (per 100 leerlingen) | C111: 3.7 | D111: 4.9 | E111: 4.9 | F111: 4.9 | G111: 0.11
B112: Avondonderwijs (per 10 studenten) | C112: 4.6 | D112: 6.8 | E112: 6.8 | F112: 10.5 | G112: 0.95

Sheet Waterberging
B2: Kansenkaart infiltratie Gemert-Bakel
B3: Orginele kaart: | C3: U:\OB\Cluster beleid en vakspecialisten\Riolering en water\1. Tekeningen\Breuklijnen en infiltratiekansen\11005-3 Kansenkaart infiltratie.pdf
B5: Gebied 1 (groen): | D5: Infiltratie kansrijk
B6: Gebied 2 (oranje): | D6: Beperkte kansen voor infiltratie, maar wel mogelijk
B7: Gebied 3 (rood of roze): | D7: Infiltreren niet mogelijk, water bergen en vertraagd afvoeren

Sheet Blanco
B1: Berekenening van water-, groen-, parkeernorm
B4: Middels dit document bekijkt u enkel of er in kwanitatieve zin voldaan wordt aan de beleidsnormen. De kwaliteit dient nog getoetst te worden door de gemeente.
B5: Waternorm
C6: Toelichting
C7: 60 mm berging voor alle nieuwbouw- en uitbreidingsplannen.
C8: Bij projecten waar gesloopt wordt en nieuwe bebouwing terugkomt, mag de gesloopte bebouwing niet in mindering worden gebracht op de vereiste waterberging. Binnen bebouwd gebied kan er in afstemming met de gemeente een overstort of vertraagde afvoer worden gerealiseerd. Buiten bebouwd gebied, waar drukriool ligt, is de eigenaar volledig verantwoordelijk voor zijn eigen waterberging. Op de drukriolering mag GEEN hemelwater worden geloosd.
C10: De waterbergingsnorm geldt voor terreinverharding (inritten, parkeren, paden, etc.) én bebouwing (woning, loods, schuur, stallen). De initiatiefnemer dient door middel van een hydologische toetsing aan te geven dat waterberging (groot: 60 mm) aangelegd kan worden boven de Gemiddeld Hoogste Grondwaterstand (GHG).
C12: Berekening waterberging
C13: verhard oppervlak x 60 mm
E15: Vul hier aantal m² in | K15: =E15*I16 -> #VALUE! | L15: m³ benodigde waterberging
F16: m² | H16: X | I16: 0.06 | J16: =
C19: Afkopen waterberging
C20: Indien het realiseren van de benodigde waterberging binnen het projectgebied niet mogelijk blijkt, is het mogelijk deze af te kopen. Dit geldt echter alleen bij inbreidingslocaties. De gemeente neemt dan de verantwoordelijkheid over en moet binnen 5 jaar een waterberging realiseren. Het afkoopbedrag wordt bepaald door de locatie van het projectgebied (zie tabblad waterberging).
L21: Geef d.m.v. 'X' hieronder aan welk gebied het betreft
F23: €/m3 waterberging | I23: benodigde m3 waterberging | K23: Afkoopkosten
C24: Gebied 1 (goede infiltratie): | F24: 1474 | I24: =$K$15 -> #VALUE! | K24: =F24*I24 -> #VALUE!
C25: Gebied 2 (berperkte infiltratie): | F25: 1525 | I25: =$K$15 -> #VALUE! | K25: =F25*I25 -> #VALUE!
C26: Gebied 3 (geen infiltratie, water bergen en vertraagd afvoeren): | F26: 1825 | I26: =$K$15 -> #VALUE! | K26: =F26*I26 -> #VALUE!
B28: Groennorm
B29: STAP 1
C30: Aantal woningen x 75 m² groen
E31: Vul hier aantal woningen in
F32: X | H32: 75 | I32: m² | J32: = | K32: =E31*H32 -> #VALUE!
E34: Vul hier aantal m² dak- of gevelgroen in.
F35: m² | H35: Dak- of gevelgroen | K35: Aantal m² wordt afgetrokken van bovenstaand totaal
E37: Vul hier aantal m² slooplocatie in.
F38: m² | H38: Slooplocatie | K38: Aantal m² wordt afgetrokken van bovenstaand totaal
E40: Totaal te realiseren groen in m² | K40: =K32-E34-E37 -> #VALUE! | L40: m²
E42: Invulling volgens ontwerpplan | M42: Legenda
E43: Vul hier aantal m² groen in dat volgens ontwerpplan gerealiseerd wordt. | N43: Voldoet meer als voldoende aan de groennorm
F44: m² | K44: =E43-K40 -> #VALUE! | L44: m² | N44: Voldoet aan groennorm
N45: Voldoet NIET aan groennorm. Ga naar stap 2
B47: STAP 2 | C47: Indien er niet wordt voldaan aan de groennorm, onderstaande berekening voor de financiële compensatie uitvoeren
C48: Lees voorafgaand aan het invullen de informatie m.b.t. de aanplant van een boom onder tabblad 'groennorm'
E50: Financiële compensatie bedraagt | J50: € | K50: =IF(K44<0,K44*(14000/75),0) -> #VALUE!
C52: Aanplant van | E52: 1e grote boom bedraagt | F52: 7000 | I52: Vul hier aantal aan te planten 1e grote bomen | J52: € | K52: =I52*F52 -> #VALUE!
E53: 2e grote boom bedraagt | F53: 4520 | I53: Vul hier aantal aan te planten 2e grote bomen | J53: € | K53: =I53*F53 -> #VALUE!
M55: Legenda
E56: Totale financiële compensatie | J56: € | K56: =K50+K52+K53 -> #VALUE! | N56: Voldoet aan groennorm
N57: Voldoet niet aan groennorm
B62: Parkeernorm
C64: Ligging plangebied
B65: Kies het juiste plangebied door een 'X' in te voeren in het juiste vak | E65: Centrum Bakel en Gemert
E66: Rest bebouwde kom Bakel en Gemert
E67: Rest bebouwde kom overige kernen
E68: Buitengebied
C69: =COUNTBLANK(C65:C68) -> 4 | F69: Vul hieronder het aantal functies in | G69: Vul hieronder de eenheid in | K69: Benodigd aantal parkeerplaatsen | L69: Waarvan Gebruikersaandeel | M69: Waarvan bezoekersaandeel
E70: Functie | F70: Aantal | G70: Eenheid | I70: Parkeernorm
B71: 1. | C71: Wonen | D71: 1 | E71: Koop, vrijstaand | I71: ppl per woning | K71: {=_xlfn.IFS($C$69>2,IF($C$65="X",F71*Parkeernorm!C4,IF($C$66="X",F71*Parkeernorm!D4,IF($C$67="X",F71*Parkeernorm!E4,IF($C$68="X",F71*Parkeernorm!F4,0)))))} -> 0 | L71: =K71-M71 -> 0 | M71: =F71*Parkeernorm!G4 -> 0
D72: 2 | E72: Koop, twee-onder-een-kap | I72: ppl per woning | K72: {=_xlfn.IFS($C$69>2,IF($C$65="X",F72*Parkeernorm!C5,IF($C$66="X",F72*Parkeernorm!D5,IF($C$67="X",F72*Parkeernorm!E5,IF($C$68="X",F72*Parkeernorm!F5,0)))))} -> 0 | L72: =K72-M72 -> 0 | M72: =F72*Parkeernorm!G5 -> 0
D73: 3 | E73: Koop, tussen/hoek | I73: ppl per woning | K73: {=_xlfn.IFS($C$69>2,IF($C$65="X",F73*Parkeernorm!C6,IF($C$66="X",F73*Parkeernorm!D6,IF($C$67="X",F73*Parkeernorm!E6,IF($C$68="X",F73*Parkeernorm!F6,0)))))} -> 0 | L73: =K73-M73 -> 0 | M73: =F73*Parkeernorm!G6 -> 0
D74: 4 | E74: Koop, appartement klein | I74: ppl per woning | K74: {=_xlfn.IFS($C$69>2,IF($C$65="X",F74*Parkeernorm!C7,IF($C$66="X",F74*Parkeernorm!D7,IF($C$67="X",F74*Parkeernorm!E7,IF($C$68="X",F74*Parkeernorm!F7,0)))))} -> 0 | L74: =K74-M74 -> 0 | M74: =F74*Parkeernorm!G7 -> 0
D75: 5 | E75: Koop, appartement groot, | I75: ppl per woning | K75: {=_xlfn.IFS($C$69>2,IF($C$65="X",F75*Parkeernorm!C8,IF($C$66="X",F75*Parkeernorm!D8,IF($C$67="X",F75*Parkeernorm!E8,IF($C$68="X",F75*Parkeernorm!F8,0)))))} -> 0 | L75: =K75-M75 -> 0 | M75: =F75*Parkeernorm!G8 -> 0
D76: 6 | E76: Huur, sociale sector | I76: ppl per woning | K76: {=_xlfn.IFS($C$69>2,IF($C$65="X",F76*Parkeernorm!C9,IF($C$66="X",F76*Parkeernorm!D9,IF($C$67="X",F76*Parkeernorm!E9,IF($C$68="X",F76*Parkeernorm!F9,0)))))} -> 0 | L76: =K76-M76 -> 0 | M76: =F76*Parkeernorm!G9 -> 0
D77: 7 | E77: Huur, vrije sector | I77: ppl per woning | K77: {=_xlfn.IFS($C$69>2,IF($C$65="X",F77*Parkeernorm!C10,IF($C$66="X",F77*Parkeernorm!D10,IF($C$67="X",F77*Parkeernorm!E10,IF($C$68="X",F77*Parkeernorm!F10,0)))))} -> 0 | L77: =K77-M77 -> 0 | M77: =F77*Parkeernorm!G10 -> 0
D78: 8 | E78: Huur, appartement klein | I78: ppl per woning | K78: {=_xlfn.IFS($C$69>2,IF($C$65="X",F78*Parkeernorm!C11,IF($C$66="X",F78*Parkeernorm!D11,IF($C$67="X",F78*Parkeernorm!E11,IF($C$68="X",F78*Parkeernorm!F11,0)))))} -> 0 | L78: =K78-M78 -> 0 | M78: =F78*Parkeernorm!G11 -> 0
D79: 9 | E79: Huur appartement groot | I79: ppl per woning | K79: {=_xlfn.IFS($C$69>2,IF($C$65="X",F79*Parkeernorm!C12,IF($C$66="X",F79*Parkeernorm!D12,IF($C$67="X",F79*Parkeernorm!E12,IF($C$68="X",F79*Parkeernorm!F12,0)))))} -> 0 | L79: =K79-M79 -> 0 | M79: =F79*Parkeernorm!G12 -> 0
D80: 10 | E80: Aanleunwoning, serviceflat | I80: ppl per woning | K80: {=_xlfn.IFS($C$69>2,IF($C$65="X",F80*Parkeernorm!C13,IF($C$66="X",F80*Parkeernorm!D13,IF($C$67="X",F80*Parkeernorm!E13,IF($C$68="X",F80*Parkeernorm!F13,0)))))} -> 0 | L80: =K80-M80 -> 0 | M80: =F80*Parkeernorm!G13 -> 0
D81: 11 | E81: Kamerverhuur (per kamer) | I81: ppl per kamer | K81: {=_xlfn.IFS($C$69>2,IF($C$65="X",F81*Parkeernorm!C14,IF($C$66="X",F81*Parkeernorm!D14,IF($C$67="X",F81*Parkeernorm!E14,IF($C$68="X",F81*Parkeernorm!F14,0)))))} -> 0 | L81: =K81-M81 -> 0 | M81: =F81*Parkeernorm!G14 -> 0
B82: 2. | C82: Werken | D82: 1 | E82: Kantoor (zonder baliefunctie) | I82: per 100m2 bvo | K82: {=_xlfn.IFS($C$69>2,IF($C$65="X",F82*Parkeernorm!C19,IF($C$66="X",F82*Parkeernorm!D19,IF($C$67="X",F82*Parkeernorm!E19,IF($C$68="X",F82*Parkeernorm!F19,0)))))} -> 0 | L82: =K82-M82 -> 0 | M82: =F82*Parkeernorm!G19 -> 0
D83: 2 | E83: Commerciële dienstverlening (kantoor met baliefunctie) | I83: per 100m2 bvo | K83: {=_xlfn.IFS($C$69>2,IF($C$65="X",F83*Parkeernorm!C20,IF($C$66="X",F83*Parkeernorm!D20,IF($C$67="X",F83*Parkeernorm!E20,IF($C$68="X",F83*Parkeernorm!F20,0)))))} -> 0 | L83: =K83-M83 -> 0 | M83: =F83*Parkeernorm!G20 -> 0
D84: 3 | E84: Bedrijf arbeidsintensief (industrie, laboratorium, werkplaats) | I84: per 100m2 bvo | K84: {=_xlfn.IFS($C$69>2,IF($C$65="X",F84*Parkeernorm!C21,IF($C$66="X",F84*Parkeernorm!D21,IF($C$67="X",F84*Parkeernorm!E21,IF($C$68="X",F84*Parkeernorm!F21,0)))))} -> 0 | L84: =K84-M84 -> 0 | M84: =F84*Parkeernorm!G21 -> 0
D85: 4 | E85: Bedrijf arbeidsextensief (loods, opslag, transportbedrijf) | I85: per 100m2 bvo | K85: {=_xlfn.IFS($C$69>2,IF($C$65="X",F85*Parkeernorm!C22,IF($C$66="X",F85*Parkeernorm!D22,IF($C$67="X",F85*Parkeernorm!E22,IF($C$68="X",F85*Parkeernorm!F22,0)))))} -> 0 | L85: =K85-M85 -> 0 | M85: =F85*Parkeernorm!G22 -> 0
D86: 5 | E86: Bedrijfsverzamelgebouw | I86: per 100m2 bvo | K86: {=_xlfn.IFS($C$69>2,IF($C$65="X",F86*Parkeernorm!C23,IF($C$66="X",F86*Parkeernorm!D23,IF($C$67="X",F86*Parkeernorm!E23,IF($C$68="X",F86*Parkeernorm!F23,0)))))} -> 0 | L86: =K86-M86 -> 0 | M86: =F86*Parkeernorm!G23 -> 0
B87: 3. | C87: Winkelen en boodschappen | D87: 1 | E87: Buurtsupermarkt bvo < 750m2 | I87: per 100m2 bvo | K87: {=_xlfn.IFS($C$69>2,IF($C$65="X",F87*Parkeernorm!C28,IF($C$66="X",F87*Parkeernorm!D28,IF($C$67="X",F87*Parkeernorm!E28,IF($C$68="X",F87*Parkeernorm!F28,0)))))} -> 0 | L87: =K87-M87 -> 0 | M87: =F87*Parkeernorm!G28 -> 0
D88: 2 | E88: Discountsupermarkt | I88: per 100m2 bvo | K88: {=_xlfn.IFS($C$69>2,IF($C$65="X",F88*Parkeernorm!C29,IF($C$66="X",F88*Parkeernorm!D29,IF($C$67="X",F88*Parkeernorm!E29,IF($C$68="X",F88*Parkeernorm!F29,0)))))} -> 0 | L88: =K88-M88 -> 0 | M88: =F88*Parkeernorm!G29 -> 0
D89: 3 | E89: Fullservice supermarkt (laag en middellaag prijsniveau) | I89: per 100m2 bvo | K89: {=_xlfn.IFS($C$69>2,IF($C$65="X",F89*Parkeernorm!C30,IF($C$66="X",F89*Parkeernorm!D30,IF($C$67="X",F89*Parkeernorm!E30,IF($C$68="X",F89*Parkeernorm!F30,0)))))} -> 0 | L89: =K89-M89 -> 0 | M89: =F89*Parkeernorm!G30 -> 0
D90: 4 | E90: Fullservice supermarkt (middelhoog en hoog prijsniveau) | I90: per 100m2 bvo | K90: {=_xlfn.IFS($C$69>2,IF($C$65="X",F90*Parkeernorm!C31,IF($C$66="X",F90*Parkeernorm!D31,IF($C$67="X",F90*Parkeernorm!E31,IF($C$68="X",F90*Parkeernorm!F31,0)))))} -> 0 | L90: =K90-M90 -> 0 | M90: =F90*Parkeernorm!G31 -> 0
D91: 5 | E91: Grote supermarkt bvo > 2500m2 | I91: per 100m2 bvo | K91: {=_xlfn.IFS($C$69>2,IF($C$65="X",F91*Parkeernorm!C32,IF($C$66="X",F91*Parkeernorm!D32,IF($C$67="X",F91*Parkeernorm!E32,IF($C$68="X",F91*Parkeernorm!F32,0)))))} -> 0 | L91: =K91-M91 -> 0 | M91: =F91*Parkeernorm!G32 -> 0
D92: 6 | E92: Groothandel in levensmiddelen | I92: per 100m2 bvo | K92: {=_xlfn.IFS($C$69>2,IF($C$65="X",F92*Parkeernorm!C33,IF($C$66="X",F92*Parkeernorm!D33,IF($C$67="X",F92*Parkeernorm!E33,IF($C$68="X",F92*Parkeernorm!F33,0)))))} -> 0 | L92: =K92-M92 -> 0 | M92: =F92*Parkeernorm!G33 -> 0
D93: 7 | E93: Buurt- en dorpscentrum | I93: per 100m2 bvo | K93: {=_xlfn.IFS($C$69>2,IF($C$65="X",F93*Parkeernorm!C34,IF($C$66="X",F93*Parkeernorm!D34,IF($C$67="X",F93*Parkeernorm!E34,IF($C$68="X",F93*Parkeernorm!F34,0)))))} -> 0 | L93: =K93-M93 -> 0 | M93: =F93*Parkeernorm!G34 -> 0
D94: 8 | E94: (week)markt (per m1 kraam) | I94: per m1 kraam | K94: {=_xlfn.IFS($C$69>2,IF($C$65="X",F94*Parkeernorm!C35,IF($C$66="X",F94*Parkeernorm!D35,IF($C$67="X",F94*Parkeernorm!E35,IF($C$68="X",F94*Parkeernorm!F35,0)))))} -> 0 | L94: =K94-M94 -> 0 | M94: =F94*Parkeernorm!G35 -> 0
D95: 9 | E95: Kringloopwinkel | I95: per 100m2 bvo | K95: {=_xlfn.IFS($C$69>2,IF($C$65="X",F95*Parkeernorm!C36,IF($C$66="X",F95*Parkeernorm!D36,IF($C$67="X",F95*Parkeernorm!E36,IF($C$68="X",F95*Parkeernorm!F36,0)))))} -> 0 | L95: =K95-M95 -> 0 | M95: =F95*Parkeernorm!G36 -> 0
D96: 10 | E96: Bruin- en witgoedzaken | I96: per 100m2 bvo | K96: {=_xlfn.IFS($C$69>2,IF($C$65="X",F96*Parkeernorm!C37,IF($C$66="X",F96*Parkeernorm!D37,IF($C$67="X",F96*Parkeernorm!E37,IF($C$68="X",F96*Parkeernorm!F37,0)))))} -> 0 | L96: =K96-M96 -> 0 | M96: =F96*Parkeernorm!G37 -> 0
D97: 11 | E97: Woonwarenhuis/woonwinkel | I97: per 100m2 bvo | K97: {=_xlfn.IFS($C$69>2,IF($C$65="X",F97*Parkeernorm!C38,IF($C$66="X",F97*Parkeernorm!D38,IF($C$67="X",F97*Parkeernorm!E38,IF($C$68="X",F97*Parkeernorm!F38,0)))))} -> 0 | L97: =K97-M97 -> 0 | M97: =F97*Parkeernorm!G38 -> 0
D98: 12 | E98: Meubel/Woonboulevard | I98: per 100m2 bvo | K98: {=_xlfn.IFS($C$69>2,IF($C$65="X",F98*Parkeernorm!C39,IF($C$66="X",F98*Parkeernorm!D39,IF($C$67="X",F98*Parkeernorm!E39,IF($C$68="X",F98*Parkeernorm!F39,0)))))} -> 0 | L98: =K98-M98 -> 0 | M98: =F98*Parkeernorm!G39 -> 0
D99: 13 | E99: Outletcentrum | I99: per 100m2 bvo | K99: {=_xlfn.IFS($C$69>2,IF($C$65="X",F99*Parkeernorm!C40,IF($C$66="X",F99*Parkeernorm!D40,IF($C$67="X",F99*Parkeernorm!E40,IF($C$68="X",F99*Parkeernorm!F40,0)))))} -> 0 | L99: =K99-M99 -> 0 | M99: =F99*Parkeernorm!G40 -> 0
... D101: 15 | E101: Tuincentrum inclusief buitenruimte bvo > 1250 m2 | I101: per 100m2 bvo | K101: {=_xlfn.IFS($C$69>2,IF($C$65="X",F101*Parkeernorm!C42,IF($C$66="X",F101*Parkeernorm!D42,IF($C$67="X",F101*Parkeernorm!E42,IF($C$68="X",F101*Parkeernorm!F42,0)))))} -> 0 | L101: =K101-M101 -> 0 | M101: =F101*Parkeernorm!G42 -> 0
B102: 4. | C102: Sport, cultuur en ontspanning | D102: 1 | E102: Bibliotheek | I102: per 100m2 bvo | K102: {=_xlfn.IFS($C$69>2,IF($C$65="X",F102*Parkeernorm!C47,IF($C$66="X",F102*Parkeernorm!D47,IF($C$67="X",F102*Parkeernorm!E47,IF($C$68="X",F102*Parkeernorm!F47,0)))))} -> 0 | L102: =K102-M102 -> 0 | M102: =F102*Parkeernorm!G47 -> 0
D103: 2 | E103: Museum | I103: per 100m2 bvo | K103: {=_xlfn.IFS($C$69>2,IF($C$65="X",F103*Parkeernorm!C48,IF($C$66="X",F103*Parkeernorm!D48,IF($C$67="X",F103*Parkeernorm!E48,IF($C$68="X",F103*Parkeernorm!F48,0)))))} -> 0 | L103: =K103-M103 -> 0 | M103: =F103*Parkeernorm!G48 -> 0
D104: 3 | E104: Bioscoop | I104: per 100m2 bvo | K104: {=_xlfn.IFS($C$69>2,IF($C$65="X",F104*Parkeernorm!C49,IF($C$66="X",F104*Parkeernorm!D49,IF($C$67="X",F104*Parkeernorm!E49,IF($C$68="X",F104*Parkeernorm!F49,0)))))} -> 0 | L104: =K104-M104 -> 0 | M104: =F104*Parkeernorm!G49 -> 0
D105: 4 | E105: Filmtheater/filmhuis | I105: per 100m2 bvo | K105: {=_xlfn.IFS($C$69>2,IF($C$65="X",F105*Parkeernorm!C50,IF($C$66="X",F105*Parkeernorm!D50,IF($C$67="X",F105*Parkeernorm!E50,IF($C$68="X",F105*Parkeernorm!F50,0)))))} -> 0 | L105: =K105-M105 -> 0 | M105: =F105*Parkeernorm!G50 -> 0
D106: 5 | E106: Theater/Schouwburg | I106: per 100m2 bvo | K106: {=_xlfn.IFS($C$69>2,IF($C$65="X",F106*Parkeernorm!C51,IF($C$66="X",F106*Parkeernorm!D51,IF($C$67="X",F106*Parkeernorm!E51,IF($C$68="X",F106*Parkeernorm!F51,0)))))} -> 0 | L106: =K106-M106 -> 0 | M106: =F106*Parkeernorm!G51 -> 0
D107: 6 | E107: Casino | I107: per 100m2 bvo | K107: {=_xlfn.IFS($C$69>2,IF($C$65="X",F107*Parkeernorm!C52,IF($C$66="X",F107*Parkeernorm!D52,IF($C$67="X",F107*Parkeernorm!E52,IF($C$68="X",F107*Parkeernorm!F52,0)))))} -> 0 | L107: =K107-M107 -> 0 | M107: =F107*Parkeernorm!G52 -> 0
D108: 7 | E108: Bowlingcentrum | I108: per 100m2 bvo | K108: {=_xlfn.IFS($C$69>2,IF($C$65="X",F108*Parkeernorm!C53,IF($C$66="X",F108*Parkeernorm!D53,IF($C$67="X",F108*Parkeernorm!E53,IF($C$68="X",F108*Parkeernorm!F53,0)))))} -> 0 | L108: =K108-M108 -> 0 | M108: =F108*Parkeernorm!G53 -> 0
D109: 8 | E109: Biljart/snookercentrum | I109: per 100m2 bvo | K109: {=_xlfn.IFS($C$69>2,IF($C$65="X",F109*Parkeernorm!C54,IF($C$66="X",F109*Parkeernorm!D54,IF($C$67="X",F109*Parkeernorm!E54,IF($C$68="X",F109*Parkeernorm!F54,0)))))} -> 0 | L109: =K109-M109 -> 0 | M109: =F109*Parkeernorm!G54 -> 0
D110: 9 | E110: Dansstudio | I110: per 100m2 bvo | K110: {=_xlfn.IFS($C$69>2,IF($C$65="X",F110*Parkeernorm!C55,IF($C$66="X",F110*Parkeernorm!D55,IF($C$67="X",F110*Parkeernorm!E55,IF($C$68="X",F110*Parkeernorm!F55,0)))))} -> 0 | L110: =K110-M110 -> 0 | M110: =F110*Parkeernorm!G55 -> 0
D111: 10 | E111: Fitnessstudio/sportschool | I111: per 100m2 bvo | K111: {=_xlfn.IFS($C$69>2,IF($C$65="X",F111*Parkeernorm!C56,IF($C$66="X",F111*Parkeernorm!D56,IF($C$67="X",F111*Parkeernorm!E56,IF($C$68="X",F111*Parkeernorm!F56,0)))))} -> 0 | L111: =K111-M111 -> 0 | M111: =F111*Parkeernorm!G56 -> 0
D112: 11 | E112: Fitnesscentrum bvo > 1500m2 | I112: per 100m2 bvo | K112: {=_xlfn.IFS($C$69>2,IF($C$65="X",F112*Parkeernorm!C57,IF($C$66="X",F112*Parkeernorm!D57,IF($C$67="X",F112*Parkeernorm!E57,IF($C$68="X",F112*Parkeernorm!F57,0)))))} -> 0 | L112: =K112-M112 -> 0 | M112: =F112*Parkeernorm!G57 -> 0
D113: 12 | E113: Welnesscentrum (thermen, kuurcentrum, beautycentrum) | I113: per 100m2 bvo | K113: {=_xlfn.IFS($C$69>2,IF($C$65="X",F113*Parkeernorm!C58,IF($C$66="X",F113*Parkeernorm!D58,IF($C$67="X",F113*Parkeernorm!E58,IF($C$68="X",F113*Parkeernorm!F58,0)))))} -> 0 | L113: =K113-M113 -> 0 | M113: =F113*Parkeernorm!G58 -> 0
D114: 13 | E114: Sauna/hammam | I114: per 100m2 bvo | K114: {=_xlfn.IFS($C$69>2,IF($C$65="X",F114*Parkeernorm!C59,IF($C$66="X",F114*Parkeernorm!D59,IF($C$67="X",F114*Parkeernorm!E59,IF($C$68="X",F114*Parkeernorm!F59,0)))))} -> 0 | L114: =K114-M114 -> 0 | M114: =F114*Parkeernorm!G59 -> 0
... D127: 26 | E127: Volkstuin (per 10 tuinen) | I127: per 10 tuinen | K127: {=_xlfn.IFS($C$69>2,IF($C$65="X",F127*Parkeernorm!C72,IF($C$66="X",F127*Parkeernorm!D72,IF($C$67="X",F127*Parkeernorm!E72,IF($C$68="X",F127*Parkeernorm!F72,0)))))} -> 0 | L127: =K127-M127 -> 0 | M127: =F127*Parkeernorm!G72 -> 0
B128: 5. | C128: Horeca en (verblijfs)recreatie | D128: 1 | E128: Camping (per standplaats) | I128: per standplaats | K128: {=_xlfn.IFS($C$69>2,IF($C$65="X",F128*Parkeernorm!C77,IF($C$66="X",F128*Parkeernorm!D77,IF($C$67="X",F128*Parkeernorm!E77,IF($C$68="X",F128*Parkeernorm!F77,0)))))} -> 0 | L128: =K128-M128 -> 0 | M128: =F128*Parkeernorm!G77 -> 0
D129: 2 | E129: Bungalowpark (per bungalow) | I129: per bungalow | K129: {=_xlfn.IFS($C$69>2,IF($C$65="X",F129*Parkeernorm!C78,IF($C$66="X",F129*Parkeernorm!D78,IF($C$67="X",F129*Parkeernorm!E78,IF($C$68="X",F129*Parkeernorm!F78,0)))))} -> 0 | L129: =K129-M129 -> 0 | M129: =F129*Parkeernorm!G78 -> 0
D130: 3 | E130: Bed & Breakfast (per gastenkamer) | I130: per gastenkamer | K130: {=_xlfn.IFS($C$69>2,IF($C$65="X",F130*Parkeernorm!C79,IF($C$66="X",F130*Parkeernorm!D79,IF($C$67="X",F130*Parkeernorm!E79,IF($C$68="X",F130*Parkeernorm!F79,0)))))} -> 0 | L130: =K130-M130 -> 0 | M130: =F130*Parkeernorm!G79 -> 0
D131: 4 | E131: 1ӿHotel (per 10 kamers) | I131: per 10 kamers | K131: {=_xlfn.IFS($C$69>2,IF($C$65="X",F131*Parkeernorm!C80,IF($C$66="X",F131*Parkeernorm!D80,IF($C$67="X",F131*Parkeernorm!E80,IF($C$68="X",F131*Parkeernorm!F80,0)))))} -> 0 | L131: =K131-M131 -> 0 | M131: =F131*Parkeernorm!G80 -> 0
D132: 5 | E132: 2ӿHotel (per 10 kamers) | I132: per 10 kamers | K132: {=_xlfn.IFS($C$69>2,IF($C$65="X",F132*Parkeernorm!C81,IF($C$66="X",F132*Parkeernorm!D81,IF($C$67="X",F132*Parkeernorm!E81,IF($C$68="X",F132*Parkeernorm!F81,0)))))} -> 0 | L132: =K132-M132 -> 0 | M132: =F132*Parkeernorm!G81 -> 0
D133: 6 | E133: 3ӿHotel (per 10 kamers) | I133: per 10 kamers | K133: {=_xlfn.IFS($C$69>2,IF($C$65="X",F133*Parkeernorm!C82,IF($C$66="X",F133*Parkeernorm!D82,IF($C$67="X",F133*Parkeernorm!E82,IF($C$68="X",F133*Parkeernorm!F82,0)))))} -> 0 | L133: =K133-M133 -> 0 | M133: =F133*Parkeernorm!G82 -> 0
D134: 7 | E134: 4ӿHotel (per 10 kamers) | I134: per 10 kamers | K134: {=_xlfn.IFS($C$69>2,IF($C$65="X",F134*Parkeernorm!C83,IF($C$66="X",F134*Parkeernorm!D83,IF($C$67="X",F134*Parkeernorm!E83,IF($C$68="X",F134*Parkeernorm!F83,0)))))} -> 0 | L134: =K134-M134 -> 0 | M134: =F134*Parkeernorm!G83 -> 0
D135: 8 | E135: 5ӿHotel (per 10 kamers) | I135: per 10 kamers | K135: {=_xlfn.IFS($C$69>2,IF($C$65="X",F135*Parkeernorm!C84,IF($C$66="X",F135*Parkeernorm!D84,IF($C$67="X",F135*Parkeernorm!E84,IF($C$68="X",F135*Parkeernorm!F84,0)))))} -> 0 | L135: =K135-M135 -> 0 | M135: =F135*Parkeernorm!G84 -> 0
...
