Workbook

Sheet Berekeningen
B1: Berekenening van water-, groen-, parkeernorm
B4: Middels dit document bekijkt u enkel of er in kwanitatieve zin voldaan wordt aan de beleidsnormen. De kwaliteit dient nog getoetst te worden door de gemeente.
B5: Waternorm
C6: Toelichting
C7: 60 mm berging voor alle nieuwbouw- en uitbreidingsplannen.
C8: Bij projecten waar gesloopt wordt en nieuwe bebouwing terugkomt, mag de gesloopte bebouwing niet in mindering worden gebracht op de vereiste waterberging. Binnen bebouwd gebied kan er in afstemming met de gemeente een overstort of vertraagde afvoer worden gerealiseerd. Buiten bebouwd gebied, waar drukriool ligt, is de eigenaar volledig verantwoordelijk voor zijn eigen waterberging. Op de drukriolering mag GEEN hemelwater worden geloosd.
C10: De waterbergingsnorm geldt voor terreinverharding (inritten, parkeren, paden, etc.) én bebouwing (woning, loods, schuur, stallen). De initiatiefnemer dient door middel van een hydologische toetsing aan te geven dat waterberging (groot: 60 mm) aangelegd kan worden boven de Gemiddeld Hoogste Grondwaterstand (GHG).
C12: Berekening waterberging
C13: verhard oppervlak x 60 mm
C15: Vul in het veld hiernaast het aantal m² in | K15: =E15*I16 -> 0 | L15: m³ benodigde waterberging
F16: m² | H16: X | I16: 0.06 | J16: =
C19: Afkopen waterberging
C20: Indien het realiseren van de benodigde waterberging binnen het projectgebied niet mogelijk blijkt, is het mogelijk deze af te kopen. Dit geldt echter alleen bij inbreidingslocaties. De gemeente neemt dan de verantwoordelijkheid over en moet binnen 5 jaar een waterberging realiseren. Het afkoopbedrag wordt bepaald door de locatie van het projectgebied (zie tabblad waterberging).
L21: Geef d.m.v. 'X' hieronder aan welk gebied het betreft
F23: €/m3 waterberging | I23: benodigde m3 waterberging | K23: Afkoopkosten
C24: Gebied 1 (goede infiltratie): | F24: 1474 | I24: =$K$15 -> 0 | K24: =F24*I24 -> 0
C25: Gebied 2 (berperkte infiltratie): | F25: 1525 | I25: =$K$15 -> 0 | K25: =F25*I25 -> 0
C26: Gebied 3 (geen infiltratie, water bergen en vertraagd afvoeren): | F26: 1825 | I26: =$K$15 -> 0 | K26: =F26*I26 -> 0
B28: Groennorm
B29: STAP 1
C31: Vul in het veld hiernaast het aantal m² oppervlak van het perceel in
F32: m² | G32: Oppervlakte perceel
C34: Vul in het veld hiernaast het aantal m² te slopen verharding in
F35: m² | G35: te slopen verharding
C38: Percentage te slopen verharding | E38: =E34/E31 -> #DIV/0! | F38: (indien meer dan 50% van het totaal oppervlak van het perceel wordt gesloopt, wordt dit meegeteld in de berekening)
C40: Vul in het veld hiernaast het aantal woningen in
F41: X | H41: 75 | I41: m² groen | J41: = | K41: =IF(E38>=0.5,((E40*H41)-E34),E40*H41) -> #DIV/0!
C43: Vul in het veld hiernaast het aantal m² dak- of gevelgroen in
F44: m² | H44: Dak- of gevelgroen
E46: Totaal te realiseren groen in m² | K46: =K41+E43 -> #DIV/0! | L46: m²
E48: Invulling volgens ontwerpplan | M48: Legenda
C49: Vul in het veld hiernaast het aantal m² groen in dat volgens ontwerpplan wordt gerealiseerd | N49: Voldoet meer als voldoende aan de groennorm
F50: m² | K50: =E49-K46 -> #DIV/0! | L50: m² | N50: Voldoet aan groennorm
N51: Voldoet NIET aan groennorm. Ga naar stap 2
B53: STAP 2 | C53: Indien er niet wordt voldaan aan de groennorm, onderstaande berekening voor de financiële compensatie uitvoeren
C54: Lees voorafgaand aan het invullen de informatie m.b.t. de aanplant van een boom onder tabblad 'groennorm'
E56: Financiële compensatie bedraagt | J56: € | K56: =IF(K50<0,K50*(14000/75),0) -> #DIV/0!
C58: Aanplant van | E58: 1e grootte orde boom bedraagt U dient hierbij rekening te houden met 100 m² groeiplaats per boom | F58: 7000 | G58: Vul in het veld hiernaast het aantal te planten 1e grootte orde bomen in | J58: € | K58: =I58*F58 -> 0
E60: 2e grootte orde boom bedraagt U dient hierbij rekening te houden met 50 m² groeiplaats per boom | F60: 4520 | G60: Vul in het veld hiernaast het aantal te planten 2e grootte orde bomen in | J60: € | K60: =I60*F60 -> 0
M62: Legenda
...

Sheet Groennorm
A35: Toelichting
A36: Recreatief groen: | B36: de oppervlakte van het groen bedraagt minimaal 1.000m2 en samenhangend
B37: 300m is de werkelijk te lopen afstand
A39: Volgebouwde locatie: | B39: 50% van het oppervlak van de locatie moet bestaan uit te slopen gebouwen (contour op maaiveld)
A41: Gevelgroen: | B41: living wall systems, klimplanten worden meegeteld mits voorzien van goede groeiplaats voor 3m2
A42: 1e grootte boom
A43: 2e grootte boom

Sheet Parkeernorm
B2: Functie Wonen
B3: Norm per woning | C3: Centrum Bakel en Gemert | D3: Rest bebouwde kom Bakel en Gemert | E3: Rest bebouwde kom overige kernen | F3: Buitengebied | G3: Aandeel Bezoekers (pp per woning/ kamer)
B4: Koop, vrijstaand | C4: 1.8 | D4: 2.3 | E4: 2.2 | F4: 2.4 | G4: 0.3
B5: Koop, twee-onder-een-kap | C5: 1.7 | D5: 2.2 | E5: 2.1 | F5: 2.2 | G5: 0.3
B6: Koop, tussen/hoek | C6: 1.5 | D6: 1.8 | E6: 1.8 | F6: 2 | G6: 0.3
B7: Koop, appartement klein | C7: 1.3 | D7: 1.6 | E7: 1.5 | F7: 1.6 | G7: 0.3
B8: Koop, appartement groot, | C8: 1.6 | D8: 1.9 | E8: 1.8 | F8: 1.9 | G8: 0.3
B9: Huur, sociale sector | C9: 1.3 | D9: 1.6 | E9: 1.5 | F9: 1.6 | G9: 0.3
B10: Huur, vrije sector | C10: 1.5 | D10: 2 | E10: 1.9 | F10: 2 | G10: 0.3
B11: Huur, appartement klein | C11: 1.1 | D11: 1.4 | E11: 1.3 | F11: 1.6 | G11: 0.3
B12: Huur appartement groot | C12: 1.4 | D12: 1.9 | E12: 1.8 | F12: 2.1 | G12: 0.3
B13: Aanleunwoning, serviceflat | C13: 1.1 | D13: 1.1 | E13: 1.1 | F13: 1.2 | G13: 0.3
B14: Kamerverhuur (per kamer) | C14: 0.6 | D14: 0.7 | E14: 0.7 | F14: 0.7 | G14: 0.2
B16: Functie Werken
B17: Werken | C17: Centrum Bakel en Gemert | D17: Rest bebouwde kom Bakel en Gemert | E17: Rest bebouwde kom overige kernen | F17: Buitengebied | G17: Aandeel Bezoekers
B18: (per 100m2 bvo*)
B19: Kantoor (zonder baliefunctie) | C19: 1.6 | D19: 2.3 | E19: 2.3 | F19: 2.3 | G19: 0.05
B20: Commerciële dienstverlening (kantoor met baliefunctie) | C20: 2.1 | D20: 3 | E20: 3 | F20: 3.3 | G20: 0.2
B21: Bedrijf arbeidsintensief (industrie, laboratorium, werkplaats) | C21: 1.6 | D21: 1.7 | E21: 1.7 | F21: 2.1 | G21: 0.05
B22: Bedrijf arbeidsextensief (loods, opslag, transportbedrijf) | C22: 0.4 | D22: 0.6 | E22: 0.6 | F22: 0.8 | G22: 0.05
B23: Bedrijfsverzamelgebouw | C23: 1.1 | D23: 1.5 | E23: 1.5 | F23: 1.7 | G23: 0
B25: Functie winkelen en boodschappen
B26: Winkelen en boodschappen | C26: Centrum Bakel en Gemert | D26: Rest bebouwde kom Bakel en Gemert | E26: Rest bebouwde kom overige kernen | F26: Buitengebied | G26: Aandeel Bezoekers
B27: (per 100m2 bvo*) | I27: 0= n.v.t.
B28: Buurtsupermarkt bvo < 750m2 | C28: 3.3 | D28: 5.1 | E28: 4.1 | F28: 0 | G28: 0.89
B29: Discountsupermarkt | C29: 4.7 | D29: 7.5 | E29: 7.5 | F29: 0 | G29: 0.96
B30: Fullservice supermarkt (laag en middellaag prijsniveau) | C30: 4.6 | D30: 7.2 | E30: 7.2 | F30: 0 | G30: 0.93
B31: Fullservice supermarkt (middelhoog en hoog prijsniveau) | C31: 5.1 | D31: 6.6 | E31: 6.6 | F31: 0 | G31: 0.93
B32: Grote supermarkt bvo > 2500m2 | C32: 7.6 | D32: 9.6 | E32: 9.6 | F32: 0 | G32: 0.84
B33: Groothandel in levensmiddelen | C33: 0 | D33: 7.1 | E33: 7.1 | F33: 0 | G33: 0.8
B34: Buurt- en dorpscentrum | C34: 5 | D34: 5 | E34: 4 | F34: 0 | G34: 0.72
B35: (week)markt (per m1 kraam) | C35: 0.2 | D35: 0.2 | E35: 0.2 | F35: 0 | G35: 0.85
B36: Kringloopwinkel | C36: 0 | D36: 2 | E36: 2 | F36: 2.3 | G36: 0.89
B37: Bruin- en witgoedzaken | C37: 4.1 | D37: 8.2 | E37: 8.2 | F37: 9.3 | G37: 0.92
B38: Woonwarenhuis/woonwinkel | C38: 1.3 | D38: 1.8 | E38: 1.8 | F38: 2 | G38: 0.91
B39: Meubel/Woonboulevard | C39: 0 | D39: 2.6 | E39: 2.6 | F39: 0 | G39: 0.93
... B42: Tuincentrum inclusief buitenruimte bvo > 1250 m2 | C42: 0 | D42: 2.4 | E42: 2.4 | F42: 2.9 | G42: 0.89
B44: Functie sport, cultuur en ontspanning
B45: Sport, cultuur en ontspanning | C45: Centrum Bakel en Gemert | D45: Rest bebouwde kom Bakel en Gemert | E45: Rest bebouwde kom overige kernen | F45: Buitengebied | G45: Aandeel Bezoekers
B46: (per 100m2 bvo*) | I46: 0= n.v.t.
...

Sheet Waterberging
B2: Kansenkaart infiltratie Gemert-Bakel
B3: Orginele kaart: | C3: U:\OB\Cluster beleid en vakspecialisten\Riolering en water\1. Tekeningen\Breuklijnen en infiltratiekansen\11005-3 Kansenkaart infiltratie.pdf
B5: Gebied 1 (groen): | D5: Infiltratie kansrijk
B6: Gebied 2 (oranje): | D6: Beperkte kansen voor infiltratie, maar wel mogelijk
B7: Gebied 3 (rood of roze): | D7: Infiltreren niet mogelijk, water bergen en vertraagd afvoeren

Sheet Blanco
B1: Berekenening van water-, groen-, parkeernorm
B4: Middels dit document bekijkt u enkel of er in kwanitatieve zin voldaan wordt aan de beleidsnormen. De kwaliteit dient nog getoetst te worden door de gemeente.
B5: Waternorm
C6: Toelichting
C7: 60 mm berging voor alle nieuwbouw- en uitbreidingsplannen.
C8: Bij projecten waar gesloopt wordt en nieuwe bebouwing terugkomt, mag de gesloopte bebouwing niet in mindering worden gebracht op de vereiste waterberging. Binnen bebouwd gebied kan er in afstemming met de gemeente een overstort of vertraagde afvoer worden gerealiseerd. Buiten bebouwd gebied, waar drukriool ligt, is de eigenaar volledig verantwoordelijk voor zijn eigen waterberging. Op de drukriolering mag GEEN hemelwater worden geloosd.
C10: De waterbergingsnorm geldt voor terreinverharding (inritten, parkeren, paden, etc.) én bebouwing (woning, loods, schuur, stallen). De initiatiefnemer dient door middel van een hydologische toetsing aan te geven dat waterberging (groot: 60 mm) aangelegd kan worden boven de Gemiddeld Hoogste Grondwaterstand (GHG).
C12: Berekening waterberging
C13: verhard oppervlak x 60 mm
E15: Vul hier aantal m² in | K15: =E15*I16 -> #VALUE! | L15: m³ benodigde waterberging
F16: m² | H16: X | I16: 0.06 | J16: =
C19: Afkopen waterberging
C20: Indien het realiseren van de benodigde waterberging binnen het projectgebied niet mogelijk blijkt, is het mogelijk deze af te kopen. Dit geldt echter alleen bij inbreidingslocaties. De gemeente neemt dan de verantwoordelijkheid over en moet binnen 5 jaar een waterberging realiseren. Het afkoopbedrag wordt bepaald door de locatie van het projectgebied (zie tabblad waterberging).
L21: Geef d.m.v. 'X' hieronder aan welk gebied het betreft
F23: €/m3 waterberging | I23: benodigde m3 waterberging | K23: Afkoopkosten
C24: Gebied 1 (goede infiltratie): | F24: 1474 | I24: =$K$15 -> #VALUE! | K24: =F24*I24 -> #VALUE!
C25: Gebied 2 (berperkte infiltratie): | F25: 1525 | I25: =$K$15 -> #VALUE! | K25: =F25*I25 -> #VALUE!
C26: Gebied 3 (geen infiltratie, water bergen en vertraagd afvoeren): | F26: 1825 | I26: =$K$15 -> #VALUE! | K26: =F26*I26 -> #VALUE!
B28: Groennorm
B29: STAP 1
C30: Aantal woningen x 75 m² groen
E31: Vul hier aantal woningen in
F32: X | H32: 75 | I32: m² | J32: = | K32: =E31*H32 -> #VALUE!
E34: Vul hier aantal m² dak- of gevelgroen in.
F35: m² | H35: Dak- of gevelgroen | K35: Aantal m² wordt afgetrokken van bovenstaand totaal
E37: Vul hier aantal m² slooplocatie in.
F38: m² | H38: Slooplocatie | K38: Aantal m² wordt afgetrokken van bovenstaand totaal
E40: Totaal te realiseren groen in m² | K40: =K32-E34-E37 -> #VALUE! | L40: m²
E42: Invulling volgens ontwerpplan | M42: Legenda
E43: Vul hier aantal m² groen in dat volgens ontwerpplan gerealiseerd wordt. | N43: Voldoet meer als voldoende aan de groennorm
F44: m² | K44: =E43-K40 -> #VALUE! | L44: m² | N44: Voldoet aan groennorm
N45: Voldoet NIET aan groennorm. Ga naar stap 2
B47: STAP 2 | C47: Indien er niet wordt voldaan aan de groennorm, onderstaande berekening voor de financiële compensatie uitvoeren
C48: Lees voorafgaand aan het invullen de informatie m.b.t. de aanplant van een boom onder tabblad 'groennorm'
E50: Financiële compensatie bedraagt | J50: € | K50: =IF(K44<0,K44*(14000/75),0) -> #VALUE!
C52: Aanplant van | E52: 1e grote boom bedraagt | F52: 7000 | I52: Vul hier aantal aan te planten 1e grote bomen | J52: € | K52: =I52*F52 -> #VALUE!
E53: 2e grote boom bedraagt | F53: 4520 | I53: Vul hier aantal aan te planten 2e grote bomen | J53: € | K53: =I53*F53 -> #VALUE!
M55: Legenda
E56: Totale financiële compensatie | J56: € | K56: =K50+K52+K53 -> #VALUE! | N56: Voldoet aan groennorm
N57: Voldoet niet aan groennorm
...
